BEGIN:VCALENDAR
VERSION:2.0
PRODID:-//MMPAC - Mid Maryland Performing Arts Center - ECPv6.15.20//NONSGML v1.0//EN
CALSCALE:GREGORIAN
METHOD:PUBLISH
X-ORIGINAL-URL:https://mmpac.com
X-WR-CALDESC:Events for MMPAC - Mid Maryland Performing Arts Center
REFRESH-INTERVAL;VALUE=DURATION:PT1H
X-Robots-Tag:noindex
X-PUBLISHED-TTL:PT1H
BEGIN:VTIMEZONE
TZID:America/New_York
BEGIN:DAYLIGHT
TZOFFSETFROM:-0500
TZOFFSETTO:-0400
TZNAME:EDT
DTSTART:20230312T070000
END:DAYLIGHT
BEGIN:STANDARD
TZOFFSETFROM:-0400
TZOFFSETTO:-0500
TZNAME:EST
DTSTART:20231105T060000
END:STANDARD
BEGIN:DAYLIGHT
TZOFFSETFROM:-0500
TZOFFSETTO:-0400
TZNAME:EDT
DTSTART:20240310T070000
END:DAYLIGHT
BEGIN:STANDARD
TZOFFSETFROM:-0400
TZOFFSETTO:-0500
TZNAME:EST
DTSTART:20241103T060000
END:STANDARD
BEGIN:DAYLIGHT
TZOFFSETFROM:-0500
TZOFFSETTO:-0400
TZNAME:EDT
DTSTART:20250309T070000
END:DAYLIGHT
BEGIN:STANDARD
TZOFFSETFROM:-0400
TZOFFSETTO:-0500
TZNAME:EST
DTSTART:20251102T060000
END:STANDARD
BEGIN:DAYLIGHT
TZOFFSETFROM:-0500
TZOFFSETTO:-0400
TZNAME:EDT
DTSTART:20260308T070000
END:DAYLIGHT
BEGIN:STANDARD
TZOFFSETFROM:-0400
TZOFFSETTO:-0500
TZNAME:EST
DTSTART:20261101T060000
END:STANDARD
END:VTIMEZONE
BEGIN:VEVENT
DTSTART;VALUE=DATE:20240217
DTEND;VALUE=DATE:20240220
DTSTAMP:20260423T055451
CREATED:20230906T171323Z
LAST-MODIFIED:20230906T171323Z
UID:8855-1708128000-1708387199@mmpac.com
SUMMARY:PRESIDENTS WEEKEND
DESCRIPTION:MMPAC Closed No Classes
URL:https://mmpac.com/event/presidents-weekend/
END:VEVENT
BEGIN:VEVENT
DTSTART;VALUE=DATE:20240328
DTEND;VALUE=DATE:20240406
DTSTAMP:20260423T055451
CREATED:20230906T171416Z
LAST-MODIFIED:20240229T002558Z
UID:8856-1711584000-1712361599@mmpac.com
SUMMARY:SPRING BREAK - Studios Closed
DESCRIPTION:MMPAC Closed No Classes – Enjoy Your Spring Break!!
URL:https://mmpac.com/event/spring-break-2/
END:VEVENT
BEGIN:VEVENT
DTSTART;VALUE=DATE:20240425
DTEND;VALUE=DATE:20240428
DTSTAMP:20260423T055451
CREATED:20230906T171511Z
LAST-MODIFIED:20230906T171511Z
UID:8857-1714003200-1714262399@mmpac.com
SUMMARY:Photo Days\, Makeup Classes\, and Production Rehearsals
DESCRIPTION:No regular classes
URL:https://mmpac.com/event/photo-days-makeup-classes-and-production-rehearsals/
END:VEVENT
BEGIN:VEVENT
DTSTART;VALUE=DATE:20240513
DTEND;VALUE=DATE:20240520
DTSTAMP:20260423T055451
CREATED:20230906T171621Z
LAST-MODIFIED:20240327T215319Z
UID:8858-1715558400-1716163199@mmpac.com
SUMMARY:NEVER MISS A CHANCE TO DANCE
DESCRIPTION:MMPAC’s Annual Production Week – 3 rehearsals and 3 shows! \nFor all the information you need to know – download your info packet here. \n2024 Performance Packet V2 \n 
URL:https://mmpac.com/event/never-miss-a-chance-to-dance/
LOCATION:Weinberg Center for the Arts\, 20 West Patrick St\, Frederick\, Maryland\, 21701\, United States
CATEGORIES:Annual Performance
END:VEVENT
BEGIN:VEVENT
DTSTART;TZID=America/New_York:20240710T173000
DTEND;TZID=America/New_York:20240710T183000
DTSTAMP:20260423T055451
CREATED:20240627T155858Z
LAST-MODIFIED:20240627T155858Z
UID:9013-1720632600-1720636200@mmpac.com
SUMMARY:Wednesday Workshop
DESCRIPTION:Tap 101 (Ages 10 and up)
URL:https://mmpac.com/event/wednesday-workshop-2/
END:VEVENT
BEGIN:VEVENT
DTSTART;TZID=America/New_York:20240710T183000
DTEND;TZID=America/New_York:20240710T200000
DTSTAMP:20260423T055451
CREATED:20240627T155946Z
LAST-MODIFIED:20240627T155946Z
UID:9014-1720636200-1720641600@mmpac.com
SUMMARY:Wednesday Workshop
DESCRIPTION:Contemporary (Beg/Intermediate)
URL:https://mmpac.com/event/wednesday-workshop-3/
END:VEVENT
BEGIN:VEVENT
DTSTART;TZID=America/New_York:20240710T183000
DTEND;TZID=America/New_York:20240710T200000
DTSTAMP:20260423T055451
CREATED:20240627T160024Z
LAST-MODIFIED:20240627T160024Z
UID:9015-1720636200-1720641600@mmpac.com
SUMMARY:Wednesday Workshop
DESCRIPTION:Jazz (Int/Advanced)
URL:https://mmpac.com/event/wednesday-workshop-4/
END:VEVENT
BEGIN:VEVENT
DTSTART;TZID=America/New_York:20240715T090000
DTEND;TZID=America/New_York:20240719T120000
DTSTAMP:20260423T055451
CREATED:20240327T214943Z
LAST-MODIFIED:20240327T215926Z
UID:8985-1721034000-1721390400@mmpac.com
SUMMARY:Princesses\, Knights and Magical Kingdoms Summer Camp Frederick Studio
DESCRIPTION:July 15-19 \n9:00 am – Noon \nAges 3-6 \nFrederick Studio
URL:https://mmpac.com/event/princesses-knights-and-magical-kingdoms-summer-camp/
LOCATION:MMPAC Frederick Studio\, 5901 Enterprise Ct\, Frederick\, MD\, 21703\, United States
END:VEVENT
BEGIN:VEVENT
DTSTART;TZID=America/New_York:20240715T090000
DTEND;TZID=America/New_York:20240719T120000
DTSTAMP:20260423T055451
CREATED:20240327T215637Z
LAST-MODIFIED:20240327T215637Z
UID:8987-1721034000-1721390400@mmpac.com
SUMMARY:Gotta Dance Summer Camp - Frederick Studio
DESCRIPTION:July 15-19 \n9:00 am – noon \nAges 6-10 years old \nMMPAC Frederick Studio
URL:https://mmpac.com/event/gotta-dance-summer-camp-frederick-studio/
LOCATION:MMPAC Frederick Studio\, 5901 Enterprise Ct\, Frederick\, MD\, 21703\, United States
END:VEVENT
BEGIN:VEVENT
DTSTART;TZID=America/New_York:20240717T173000
DTEND;TZID=America/New_York:20240717T183000
DTSTAMP:20260423T055451
CREATED:20240627T160105Z
LAST-MODIFIED:20240627T160105Z
UID:9016-1721237400-1721241000@mmpac.com
SUMMARY:Wednesday Workshop
DESCRIPTION:Tap 101 (Ages 10 and up)
URL:https://mmpac.com/event/wednesday-workshop-5/
END:VEVENT
BEGIN:VEVENT
DTSTART;TZID=America/New_York:20240717T183000
DTEND;TZID=America/New_York:20240717T200000
DTSTAMP:20260423T055451
CREATED:20240627T160139Z
LAST-MODIFIED:20240627T160534Z
UID:9017-1721241000-1721246400@mmpac.com
SUMMARY:Wednesday Workshop
DESCRIPTION:Jazz (Beg/Intermediate)
URL:https://mmpac.com/event/wednesday-workshop-6/
END:VEVENT
BEGIN:VEVENT
DTSTART;TZID=America/New_York:20240717T183000
DTEND;TZID=America/New_York:20240717T200000
DTSTAMP:20260423T055451
CREATED:20240627T160211Z
LAST-MODIFIED:20240627T160457Z
UID:9018-1721241000-1721246400@mmpac.com
SUMMARY:Wednesday Workshop
DESCRIPTION:Ballet (Int/Advanced)
URL:https://mmpac.com/event/wednesday-workshop-7/
END:VEVENT
BEGIN:VEVENT
DTSTART;TZID=America/New_York:20240722T090000
DTEND;TZID=America/New_York:20240726T120000
DTSTAMP:20260423T055451
CREATED:20240326T214239Z
LAST-MODIFIED:20240327T220533Z
UID:8984-1721638800-1721995200@mmpac.com
SUMMARY:Under the Sea Camp - New Market Studio
DESCRIPTION:Dive right in to dance this summer! \nJuly 22 – 26 \n9am to Noon \nAges 3-6 \nNew Market studio!
URL:https://mmpac.com/event/under-the-sea-camp/
LOCATION:MMPAC New Market Studio\, 12 W Main St\, New Market\, MD\, 21774\, United States
END:VEVENT
BEGIN:VEVENT
DTSTART;TZID=America/New_York:20240722T130000
DTEND;TZID=America/New_York:20240726T160000
DTSTAMP:20260423T055451
CREATED:20240327T215806Z
LAST-MODIFIED:20240327T222330Z
UID:8988-1721653200-1722009600@mmpac.com
SUMMARY:Gotta Dance Summer Camp - New Market Studio
DESCRIPTION:July 22-26 \n1:00pm – 4:00pm \nAges 6-10 years old \nMMPAC Frederick Studio
URL:https://mmpac.com/event/gotta-dance-summer-camp-new-market-studio/
LOCATION:MMPAC New Market Studio\, 12 W Main St\, New Market\, MD\, 21774\, United States
END:VEVENT
BEGIN:VEVENT
DTSTART;TZID=America/New_York:20240724T173000
DTEND;TZID=America/New_York:20240724T183000
DTSTAMP:20260423T055451
CREATED:20240627T160244Z
LAST-MODIFIED:20240627T160244Z
UID:9019-1721842200-1721845800@mmpac.com
SUMMARY:Wednesday Workshop
DESCRIPTION:Tap 101 (Ages 10 and up)
URL:https://mmpac.com/event/wednesday-workshop-8/
END:VEVENT
BEGIN:VEVENT
DTSTART;TZID=America/New_York:20240724T183000
DTEND;TZID=America/New_York:20240724T200000
DTSTAMP:20260423T055451
CREATED:20240627T160314Z
LAST-MODIFIED:20240627T160314Z
UID:9020-1721845800-1721851200@mmpac.com
SUMMARY:Wednesday Workshop
DESCRIPTION:Ballet (Beg/Intermediate)
URL:https://mmpac.com/event/wednesday-workshop-9/
END:VEVENT
BEGIN:VEVENT
DTSTART;TZID=America/New_York:20240724T183000
DTEND;TZID=America/New_York:20240724T200000
DTSTAMP:20260423T055451
CREATED:20240627T160353Z
LAST-MODIFIED:20240627T160353Z
UID:9021-1721845800-1721851200@mmpac.com
SUMMARY:Wednesday Workshop
DESCRIPTION:Contemporary (Int/Advanced)
URL:https://mmpac.com/event/wednesday-workshop-10/
END:VEVENT
BEGIN:VEVENT
DTSTART;TZID=America/New_York:20240729T090000
DTEND;TZID=America/New_York:20240802T160000
DTSTAMP:20260423T055451
CREATED:20240327T220308Z
LAST-MODIFIED:20240327T220308Z
UID:8989-1722243600-1722614400@mmpac.com
SUMMARY:D3 Dance\, Dance\, Dance Camp - Frederick Studio
DESCRIPTION:July 29 – Aug 2 \n9:00 am – 4:00 pm \nAges 9-18 \nAll Dance Genres \nFrederick Studio
URL:https://mmpac.com/event/d3-dance-dance-dance-camp-frederick-studio/
LOCATION:MMPAC Frederick Studio\, 5901 Enterprise Ct\, Frederick\, MD\, 21703\, United States
END:VEVENT
BEGIN:VEVENT
DTSTART;TZID=America/New_York:20240827T170000
DTEND;TZID=America/New_York:20240829T200000
DTSTAMP:20260423T055451
CREATED:20240327T220447Z
LAST-MODIFIED:20240327T220447Z
UID:8990-1724778000-1724961600@mmpac.com
SUMMARY:F.I.T. Focus Inspire Train - Frederick Studio
DESCRIPTION:August 27 – 29 \n5:00 pm – 8:00 pm \nAges 9 – 18 \nFrederick Studio
URL:https://mmpac.com/event/f-i-t-focus-inspire-train-frederick-studio/
LOCATION:MMPAC Frederick Studio\, 5901 Enterprise Ct\, Frederick\, MD\, 21703\, United States
END:VEVENT
BEGIN:VEVENT
DTSTART;VALUE=DATE:20241006
DTEND;VALUE=DATE:20241007
DTSTAMP:20260423T055451
CREATED:20240709T231851Z
LAST-MODIFIED:20240709T231851Z
UID:9025-1728172800-1728259199@mmpac.com
SUMMARY:Firefighter Run in New Market
DESCRIPTION:Potential Performance
URL:https://mmpac.com/event/firefighter-run-in-new-market/
END:VEVENT
BEGIN:VEVENT
DTSTART;VALUE=DATE:20241021
DTEND;VALUE=DATE:20241022
DTSTAMP:20260423T055451
CREATED:20240709T232122Z
LAST-MODIFIED:20240709T232122Z
UID:9026-1729468800-1729555199@mmpac.com
SUMMARY:Costume Preview's Begin
DESCRIPTION:
URL:https://mmpac.com/event/costume-previews-begin/
END:VEVENT
BEGIN:VEVENT
DTSTART;VALUE=DATE:20241026
DTEND;VALUE=DATE:20241027
DTSTAMP:20260423T055451
CREATED:20240709T232236Z
LAST-MODIFIED:20240709T232236Z
UID:9027-1729900800-1729987199@mmpac.com
SUMMARY:Trunk or Treat Performance
DESCRIPTION:New Market United Methodist Church
URL:https://mmpac.com/event/trunk-or-treat-performance/
END:VEVENT
BEGIN:VEVENT
DTSTART;VALUE=DATE:20241031
DTEND;VALUE=DATE:20241101
DTSTAMP:20260423T055451
CREATED:20240709T232356Z
LAST-MODIFIED:20240709T232356Z
UID:9028-1730332800-1730419199@mmpac.com
SUMMARY:Halloween
DESCRIPTION:NO CLASSES
URL:https://mmpac.com/event/halloween-2/
END:VEVENT
BEGIN:VEVENT
DTSTART;VALUE=DATE:20241116
DTEND;VALUE=DATE:20241117
DTSTAMP:20260423T055451
CREATED:20240709T232435Z
LAST-MODIFIED:20241031T185150Z
UID:9029-1731715200-1731801599@mmpac.com
SUMMARY:Westview Tree Lighting
DESCRIPTION:Performance at 3:00 pm at the Westview Promenade. \nTree lighting\, live band and free crafts plus performances by MMPAC dancers of all ages! \nHighlights from 2016 tree lighting! \n \n 
URL:https://mmpac.com/event/westview-tree-lighting-performance-2/
END:VEVENT
BEGIN:VEVENT
DTSTART;VALUE=DATE:20241123
DTEND;VALUE=DATE:20241124
DTSTAMP:20260423T055451
CREATED:20240709T232509Z
LAST-MODIFIED:20240709T232509Z
UID:9030-1732320000-1732406399@mmpac.com
SUMMARY:Costume Money Due
DESCRIPTION:
URL:https://mmpac.com/event/costume-money-due-2/
END:VEVENT
BEGIN:VEVENT
DTSTART;VALUE=DATE:20241126
DTEND;VALUE=DATE:20241201
DTSTAMP:20260423T055451
CREATED:20240709T232600Z
LAST-MODIFIED:20240709T232600Z
UID:9031-1732579200-1733011199@mmpac.com
SUMMARY:Thanksgiving Break
DESCRIPTION:NO CLASSES
URL:https://mmpac.com/event/thanksgiving-break-4/
END:VEVENT
BEGIN:VEVENT
DTSTART;VALUE=DATE:20241207
DTEND;VALUE=DATE:20241208
DTSTAMP:20260423T055451
CREATED:20240709T232734Z
LAST-MODIFIED:20241120T173455Z
UID:9032-1733529600-1733615999@mmpac.com
SUMMARY:Christmas in New Market
DESCRIPTION:MMPAC dances at New Market Park for the annual tree lighting celebration. \n48 East Main St \n5:00pm \nHighlights from 2021 event!\n \n  \nParade and Performance – For more info https://www.townofnewmarket.org/home/news/christmas-new-market-december-7-2024-1 \n \n 
URL:https://mmpac.com/event/christmas-in-new-market-parade-and-performance/
LOCATION:Main Street New Market\, 21774
END:VEVENT
BEGIN:VEVENT
DTSTART;VALUE=DATE:20241214
DTEND;VALUE=DATE:20241215
DTSTAMP:20260423T055451
CREATED:20240709T232910Z
LAST-MODIFIED:20240709T232910Z
UID:9034-1734134400-1734220799@mmpac.com
SUMMARY:Holiday Nursing Home Tour
DESCRIPTION:Performances
URL:https://mmpac.com/event/holiday-nursing-home-tour/
END:VEVENT
BEGIN:VEVENT
DTSTART;VALUE=DATE:20241221
DTEND;VALUE=DATE:20250102
DTSTAMP:20260423T055451
CREATED:20240709T233016Z
LAST-MODIFIED:20240709T233016Z
UID:9035-1734739200-1735775999@mmpac.com
SUMMARY:Holiday Break
DESCRIPTION:NO CLASSES
URL:https://mmpac.com/event/holiday-break/
END:VEVENT
BEGIN:VEVENT
DTSTART;VALUE=DATE:20250104
DTEND;VALUE=DATE:20250106
DTSTAMP:20260423T055451
CREATED:20240709T233129Z
LAST-MODIFIED:20240709T233129Z
UID:9036-1735948800-1736121599@mmpac.com
SUMMARY:Tremaine Convention
DESCRIPTION:
URL:https://mmpac.com/event/tremaine-convention/
END:VEVENT
END:VCALENDAR